BEGIN:VCALENDAR
VERSION:2.0
PRODID:-//Library Market//iCal Export//EN
BEGIN:VEVENT
SUMMARY:Sip + Stitch Craft Night
UID:6886
DTSTAMP:20260425T191300Z
DTSTART:20260423T220000Z
DTEND:20260424T000000Z
LOCATION:Canada
ROOM: Board Room
DESCRIPTION:Join us for our monthly Sip + Stitch from 6-8PM in the library
  Board Room.Bring a new project or a WIP to work on during this drop-in so
 cial-gathering style event. We will have snacks and music! This is a free 
 drop-in style event. All crafts are welcome!No supplies will be provided, 
 please bring your own craft to work on. 
URL:https://northbaypl.librarycalendar.com/event/hold-6886
END:VEVENT
END:VCALENDAR
